BEGIN:VCALENDAR
VERSION:2.0
PRODID:-//OmniMagnetCalendar//EN
BEGIN:VEVENT
DTSTAMP:20190625T195740Z
STATUS:CONFIRMED
UID:hcli.clubs.harvard.edu122
DTSTART:20230921T220000Z
DTEND:20230922T010000Z
LOCATION:Westbury High School, 1 Post Road, Westbury, NY, 11568,
SUMMARY:Annual Schools Committee Workshop with Admissions Officer, Anna Pettit
DESCRIPTION:
BEGIN:VALARM
TRIGGER:-PT15M
ACTION:DISPLAY
END:VALARM
TRANSP:OPAQUE
END:VEVENT
END:VCALENDAR
