BEGIN:VCALENDAR
VERSION:2.0
PRODID:-//OmniMagnetCalendar//EN
BEGIN:VEVENT
DTSTAMP:20190625T195740Z
STATUS:CONFIRMED
UID:hcli.clubs.harvard.edu146
DTSTART:20240720T200000Z
DTEND:20240720T220000Z
LOCATION:Barnes & Noble Bridgehampton, 2044 Montauk Hwy Space 6, Bridgehampton, NY, 11932,
SUMMARY:Reading with Charles Belson, Harvard GSD ‘75 and Author of “Reflections: An Architect's Memoir"
DESCRIPTION:Architect Charles Belson’s new memoir, REFLECTIONS, reads like a novel where great expectations, social class divisions and the realities of real estate economics often collide head-on with architectural ambition. 
BEGIN:VALARM
TRIGGER:-PT15M
ACTION:DISPLAY
END:VALARM
TRANSP:OPAQUE
END:VEVENT
END:VCALENDAR
