BEGIN:VCALENDAR
VERSION:2.0
PRODID:-//OmniMagnetCalendar//EN
BEGIN:VEVENT
DTSTAMP:20190625T195740Z
STATUS:CONFIRMED
UID:hcli.clubs.harvard.edu160
DTSTART:20241208T190000Z
DTEND:20241208T220000Z
LOCATION:New York City Center, 131 W 55th St, New York, NY,
SUMMARY:Alvin Ailey American Dance Theatre - Ailey Classics
DESCRIPTION:Alvin Ailey American Dance Theater, City Center’s Principal Dance Company, returns for a five-week holiday season celebrating a lineage and legacy that continues to open doors and break new ground. Ailey’s extraordinary dancers bring to life world pre
BEGIN:VALARM
TRIGGER:-PT15M
ACTION:DISPLAY
END:VALARM
TRANSP:OPAQUE
END:VEVENT
END:VCALENDAR
