BEGIN:VCALENDAR
VERSION:2.0
PRODID:-//OmniMagnetCalendar//EN
BEGIN:VEVENT
DTSTAMP:20190625T195740Z
STATUS:CONFIRMED
UID:hcli.clubs.harvard.edu172
DTSTART:20250114T003000Z
DTEND:20250114T020000Z
LOCATION:St. Agnes Cathedral, 29 Quealy Place, Rockville Centre, NY, 11570,
SUMMARY:The Harvard Glee Club Performance at St. Agnes Cathedral
DESCRIPTION:In concert with the choir of St. Agnes Cathedral under the direction of Michael Bower, the Glee Club will sing works spanning centuries, regions, and traditions. At the conclusion of the evening, the groups will join together for a joint rendition of Hand
BEGIN:VALARM
TRIGGER:-PT15M
ACTION:DISPLAY
END:VALARM
TRANSP:OPAQUE
END:VEVENT
END:VCALENDAR
