BEGIN:VCALENDAR
VERSION:2.0
PRODID:-//OmniMagnetCalendar//EN
BEGIN:VEVENT
DTSTAMP:20190625T195740Z
STATUS:CONFIRMED
UID:hcli.clubs.harvard.edu175
DTSTART:20250129T000000Z
DTEND:20250129T020000Z
LOCATION:Zoom, East Setauket, NY,
SUMMARY:VIRTUAL - Ivy League Lecture Series: Lights, Camera, Action!
DESCRIPTION:Come join us for our Ivy League January Lecture Series via Zoom on Tuesday January 28th from 7-9 pm with Christopher Peck on How the Tactics and Gifts of Actors and Stage Directors Can Transform YOUR Communication Skills and Go From Hello to Yes!
BEGIN:VALARM
TRIGGER:-PT15M
ACTION:DISPLAY
END:VALARM
TRANSP:OPAQUE
END:VEVENT
END:VCALENDAR
