BEGIN:VCALENDAR
VERSION:2.0
PRODID:-//OmniMagnetCalendar//EN
BEGIN:VEVENT
DTSTAMP:20190625T195740Z
STATUS:CONFIRMED
UID:hcli.clubs.harvard.edu177
DTSTART:20250131T000000Z
DTEND:20250131T010000Z
LOCATION:Zoom,
SUMMARY:VIRTUAL - "How Stories Shape History" with Professor Martin Puchner
DESCRIPTION:The Harvard-Radcliffe Club of Westchester has invited us to join this event featuring Martin Puchner, Professor of English and Comparative Literature, who will explain "How Stories Shape History."
BEGIN:VALARM
TRIGGER:-PT15M
ACTION:DISPLAY
END:VALARM
TRANSP:OPAQUE
END:VEVENT
END:VCALENDAR
