BEGIN:VCALENDAR
VERSION:2.0
PRODID:-//OmniMagnetCalendar//EN
BEGIN:VEVENT
DTSTAMP:20190625T195740Z
STATUS:CONFIRMED
UID:hcli.clubs.harvard.edu178
DTSTART:20250226T180000Z
DTEND:20250227T003000Z
LOCATION:Harvard Club of New York, 35 W 44th St, New York, NY,
SUMMARY:HBSCNY NYC Antisemitism Event: Moral Courage & Leadership
DESCRIPTION:Please join us at the capstone event of the HBS Club of NY’s efforts to combat antisemitism. We will convene HBS alumni and other business leaders to address antisemitism and drive meaningful change across the business community, media and academi
BEGIN:VALARM
TRIGGER:-PT15M
ACTION:DISPLAY
END:VALARM
TRANSP:OPAQUE
END:VEVENT
END:VCALENDAR
