BEGIN:VCALENDAR
VERSION:2.0
PRODID:-//OmniMagnetCalendar//EN
BEGIN:VEVENT
DTSTAMP:20190625T195740Z
STATUS:CONFIRMED
UID:hcli.clubs.harvard.edu225
DTSTART:20260109T010000Z
DTEND:20260125T200000Z
LOCATION:Theater for the New City, 155 First Avenue, New York, NY,
SUMMARY:2 Operas by Leonard Lehrman
DESCRIPTION:
BEGIN:VALARM
TRIGGER:-PT15M
ACTION:DISPLAY
END:VALARM
TRANSP:OPAQUE
END:VEVENT
END:VCALENDAR
